BEGIN:VCALENDAR
VERSION:2.0
PRODID:-//Keeley&#039;s Cause - ECPv6.15.18//NONSGML v1.0//EN
CALSCALE:GREGORIAN
METHOD:PUBLISH
X-ORIGINAL-URL:https://keeleyscause.org.au
X-WR-CALDESC:Events for Keeley&#039;s Cause
REFRESH-INTERVAL;VALUE=DURATION:PT1H
X-Robots-Tag:noindex
X-PUBLISHED-TTL:PT1H
BEGIN:VTIMEZONE
TZID:Australia/Melbourne
BEGIN:STANDARD
TZOFFSETFROM:+1100
TZOFFSETTO:+1000
TZNAME:AEST
DTSTART:20210403T160000
END:STANDARD
BEGIN:DAYLIGHT
TZOFFSETFROM:+1000
TZOFFSETTO:+1100
TZNAME:AEDT
DTSTART:20211002T160000
END:DAYLIGHT
BEGIN:STANDARD
TZOFFSETFROM:+1100
TZOFFSETTO:+1000
TZNAME:AEST
DTSTART:20220402T160000
END:STANDARD
BEGIN:DAYLIGHT
TZOFFSETFROM:+1000
TZOFFSETTO:+1100
TZNAME:AEDT
DTSTART:20221001T160000
END:DAYLIGHT
BEGIN:STANDARD
TZOFFSETFROM:+1100
TZOFFSETTO:+1000
TZNAME:AEST
DTSTART:20230401T160000
END:STANDARD
BEGIN:DAYLIGHT
TZOFFSETFROM:+1000
TZOFFSETTO:+1100
TZNAME:AEDT
DTSTART:20230930T160000
END:DAYLIGHT
BEGIN:STANDARD
TZOFFSETFROM:+1100
TZOFFSETTO:+1000
TZNAME:AEST
DTSTART:20240406T160000
END:STANDARD
BEGIN:DAYLIGHT
TZOFFSETFROM:+1000
TZOFFSETTO:+1100
TZNAME:AEDT
DTSTART:20241005T160000
END:DAYLIGHT
END:VTIMEZONE
BEGIN:VEVENT
DTSTART;TZID=Australia/Melbourne:20230519T180000
DTEND;TZID=Australia/Melbourne:20230519T220000
DTSTAMP:20260423T191952
CREATED:20230130T232040Z
LAST-MODIFIED:20230615T005855Z
UID:1775-1684519200-1684533600@keeleyscause.org.au
SUMMARY:Girls Night Out
DESCRIPTION:Over the past 18 years\, the Ballarat & District Trotting Club has hosted a Girls Night Out Fundraising Event alongside a night of Harness Racing. On the all exclusive ladies night\, we have special guests\, raffles\, auctions\, and a lot of fun with our family and friends. \nEach year we select a local or national organisation as our allocated recipient of money raised throughout the\nnight. During this time we have helped raise over $120\,000. \nOn Friday\, May 19th 2023\, Keeley’s Cause will be the recipient of our Girls Night Out. \nFacebook Event Page \nBOOK NOW
URL:https://keeleyscause.org.au/event/girls-night-out/
LOCATION:Ballarat & District Trotting Club\, Cnr Bell Street & Sutton Street\, Redan\, Victoria\, 3350\, Australia
CATEGORIES:Prior Events
ATTACH;FMTTYPE=image/png:https://keeleyscause.org.au/wp-content/uploads/2023/01/Keeley-Cause-Portrait-IG-September-2022-2023-04-04T184733.874.png
ORGANIZER;CN="Sharon Murphy":MAILTO:info@keeleyscause.org.au
END:VEVENT
BEGIN:VEVENT
DTSTART;TZID=Australia/Melbourne:20221211T110000
DTEND;TZID=Australia/Melbourne:20221211T140000
DTSTAMP:20260423T191952
CREATED:20221115T231305Z
LAST-MODIFIED:20230615T005908Z
UID:1759-1670756400-1670767200@keeleyscause.org.au
SUMMARY:Giving Day Cadbury 10 kg Chocolate Block Raffle
DESCRIPTION:Got to be in it to Win it !\nYour chance to take home the hugest block of chocolate you will ever see \nthanks to our Sponsors Country Grocers IGA Ballan for this amazing donation
URL:https://keeleyscause.org.au/event/giving-day-cadbury-10-kg-chocolate-block-raffle/
LOCATION:Victoria
CATEGORIES:Prior Events
ORGANIZER;CN="Sharon Murphy":MAILTO:info@keeleyscause.org.au
END:VEVENT
BEGIN:VEVENT
DTSTART;TZID=Australia/Melbourne:20221211T080000
DTEND;TZID=Australia/Melbourne:20221211T110000
DTSTAMP:20260423T191952
CREATED:20221122T051646Z
LAST-MODIFIED:20230615T005918Z
UID:1761-1670745600-1670756400@keeleyscause.org.au
SUMMARY:Keeley's Cause Giving Day 2022
DESCRIPTION:Come join our day of Giving to Disability Families \nA Giving Day of BRAND NEW donated goods for Disability Families who hold a Blue Carers Pension Card\, Disability Pension Card\, Low Income Health Care Card.
URL:https://keeleyscause.org.au/event/keeleys-cause-giving-day-2022/
LOCATION:Victoria
CATEGORIES:Prior Events
ORGANIZER;CN="Sharon Murphy":MAILTO:info@keeleyscause.org.au
END:VEVENT
END:VCALENDAR